BEGIN:VCALENDAR
VERSION:2.0
PRODID:-//Centrul Ananda Yoga - ECPv6.1.3//NONSGML v1.0//EN
CALSCALE:GREGORIAN
METHOD:PUBLISH
X-WR-CALNAME:Centrul Ananda Yoga
X-ORIGINAL-URL:https://ananda-yoga.ro
X-WR-CALDESC:Events for Centrul Ananda Yoga
REFRESH-INTERVAL;VALUE=DURATION:PT1H
X-Robots-Tag:noindex
X-PUBLISHED-TTL:PT1H
BEGIN:VTIMEZONE
TZID:Europe/Bucharest
BEGIN:DAYLIGHT
TZOFFSETFROM:+0200
TZOFFSETTO:+0300
TZNAME:EEST
DTSTART:20170326T010000
END:DAYLIGHT
BEGIN:STANDARD
TZOFFSETFROM:+0300
TZOFFSETTO:+0200
TZNAME:EET
DTSTART:20171029T010000
END:STANDARD
BEGIN:DAYLIGHT
TZOFFSETFROM:+0200
TZOFFSETTO:+0300
TZNAME:EEST
DTSTART:20180325T010000
END:DAYLIGHT
BEGIN:STANDARD
TZOFFSETFROM:+0300
TZOFFSETTO:+0200
TZNAME:EET
DTSTART:20181028T010000
END:STANDARD
BEGIN:DAYLIGHT
TZOFFSETFROM:+0200
TZOFFSETTO:+0300
TZNAME:EEST
DTSTART:20190331T010000
END:DAYLIGHT
BEGIN:STANDARD
TZOFFSETFROM:+0300
TZOFFSETTO:+0200
TZNAME:EET
DTSTART:20191027T010000
END:STANDARD
BEGIN:DAYLIGHT
TZOFFSETFROM:+0200
TZOFFSETTO:+0300
TZNAME:EEST
DTSTART:20200329T010000
END:DAYLIGHT
BEGIN:STANDARD
TZOFFSETFROM:+0300
TZOFFSETTO:+0200
TZNAME:EET
DTSTART:20201025T010000
END:STANDARD
BEGIN:DAYLIGHT
TZOFFSETFROM:+0200
TZOFFSETTO:+0300
TZNAME:EEST
DTSTART:20210328T010000
END:DAYLIGHT
BEGIN:STANDARD
TZOFFSETFROM:+0300
TZOFFSETTO:+0200
TZNAME:EET
DTSTART:20211031T010000
END:STANDARD
BEGIN:DAYLIGHT
TZOFFSETFROM:+0200
TZOFFSETTO:+0300
TZNAME:EEST
DTSTART:20220327T010000
END:DAYLIGHT
BEGIN:STANDARD
TZOFFSETFROM:+0300
TZOFFSETTO:+0200
TZNAME:EET
DTSTART:20221030T010000
END:STANDARD
BEGIN:DAYLIGHT
TZOFFSETFROM:+0200
TZOFFSETTO:+0300
TZNAME:EEST
DTSTART:20230326T010000
END:DAYLIGHT
BEGIN:STANDARD
TZOFFSETFROM:+0300
TZOFFSETTO:+0200
TZNAME:EET
DTSTART:20231029T010000
END:STANDARD
END:VTIMEZONE
BEGIN:VEVENT
DTSTART;TZID=Europe/Bucharest:20231104T100000
DTEND;TZID=Europe/Bucharest:20231104T200000
DTSTAMP:20260426T014126
CREATED:20231026T192300Z
LAST-MODIFIED:20231027T222225Z
UID:12576-1699092000-1699128000@ananda-yoga.ro
SUMMARY:LA VIE EN ROSE sau Cum să fim fericiți accesând la voință energia orgasmului
DESCRIPTION:După ce am trăit un orgasm împlinitor\, viața devine dintr-odată mult mai “roz”. Suntem mai plini de viață\, trăim totul mai intens\, iar fericirea își face loc mult mai ușor în existența și ființa noastră. \nPlăcerea pe care orgasmul ne-o conferă este atât de mare încât conștiința se expansionează spontan\, ajutându-ne să depășim fără nici un fel de efort granițele realității obișnuite\, cu toate grijile și problemele ei inerente și să pășim astfel într-un tărâm al bucuriilor și al împlinirilor paradisiace. \n\n\n\n\nWorkshop cu\nHermina Seraphim\n4 noiembrie 2023 \nProgramul:\n10:00 – 13:00 prezentare și jocuri interactive\n13:00 – 15:00 pauză de masă\n15:00 – 18:00 exemplificări și inițiere în tainele Erosului Pur \n\n\n\n\n\n\n\n\n\n\n\n\n\n\n\n\nInvestiția ta: 230 RON\nDiscount pentru cursanți Ananda/Yoga/Tantra: 130 RON \n\n\n\n\n\n\n\n\n\n\n\n\n\n\n\n\n\n	Acest workshop este pentru tine dacă\n \n\n\n\n\n\n\nsimți că orgasmul este un mare mister care merită explorat\n\n\n\n\n\n\n\n\n\n\nintuiești că orgasmul este o formă de energie foarte înaltă\, profund spirituală și accesibilă\n\n\n\n\n\n\n\n\n\n\nești deschis/deschisă să descoperi dimensiunea adevărată a orgasmului\, ce depășește cu mult energia banală\, carnală\, incontrolabilă\n\n\n\n\n\n\n\n\n\n\nvrei să afli cum poți accesa stări profunde și autentice de orgasm\, în mod conștient\, chiar și fără să fie necesară interacțiunea amoroasă ori auto-erotismul\n\n\n\n\n\n\n\n\n\n\n\n\n\n\n\n\n\n\n\n\nIndiferent de viața erotică amoroasă a fiecăruia dintre noi\, indiferent de nivelul de experiență pe care îl avem în ceea ce privește trăirea orgasmului\, indiferent de cât de capabili am fost până acum să experimentăm asemenea stări orgasmatice (mai mult sau mai puțin profunde și împlinitoare)… aceasta este o oportunitate minunată pentru toți cei care sunt cel puțin curioși să descopere ce înseamnă cu adevărat orgasmul conștient și cum anume îl putem include în viața noastră. \n\n\n\n\n\n\n\n\n\n\n\n\n\n\n\n\n\nTermenul orgasm este adesea asociat interacțiunilor sexuale sau erotice\, însă puțini știu că orgasmul este un fenomen eminamente energetic și el poate fi trăit si independent de interacțiunile intime. Fără doar si poate\, orgasmul este una din trăirile cele mai extraordinare pe care le poate experimenta ființa umană\, trăire la care mulți dintre noi aspirăm in intimitatea sufletului nostru. \nConștient sau inconștient\, mulți dinte noi intuim că trăirea stărilor de orgasm sunt in directa legătură cu starea de fericire. Pe măsură ce experimentăm orgasme tot mai multe\, mai dese și mai împlinitoare\, ce sunt fără ejaculare (în cazul bărbaților) și fără descărcare (în cazul femeilor)\, bazate pe continență erotică\, devine tot mai natural\, mai firesc și mai ușor pentru noi să fim extraordinar de fericiți! \n\n\n\n\n\n	Revoluționar!\n\n\n	 Orgasmul poate fi trăit și fără interacțiune erotică sau autoerotism!\n\nCum? Accesând la voință o altfel de energie decât cea sexuală instinctuală\, care de cele mai multe ori ne pune la dispoziție orgasme mai scurte chiar și decât un strănut. \nExistă o metodă secretă care\, aplicată cu perseverență și entuziasm\, ne poate conferi  orgasme ample\, profunde și multiple. Ea a fost păstrată cu strictețe în toate tradițiile spirituale ale lumii\, fiind utilizată de marii înțelepți ai acestei planete pentru a se desăvârși în spirit\, dar și pentru a conferi forță\, înțelepciune\, longevitate conducătorilor lumii sau o imensă creativitate artiștilor de geniu. \nEste vorba despre energia subtilă sublimă a Erosului Pur Dumnezeiesc care\, pe lângă faptul că poate fi accesată cu ușurință\, generând  în universul nostru lăuntric cât de multe orgasme ne dorim\, mai este și nesfârșită\, veșnică și cât se poate de gratuită. \nAcest workshop își propune să vă arate cum puteți face aceasta.\nVom învăța cum\, prin intermediul unor exerciții foarte simple și plăcute\, putem accesa cu mare ușurință – grație unui proces de rezonanță ocultă – energia subtilă sublimă a Erosului Pur Dumnezeiesc. Astfel\, prin exersarea constantă a tehnicilor simple prezentate\, orgasmul va putea deveni într-un timp relativ scurt cel mai puternic aliat în demersul nostru de cucerire a stărilor de fericire durabilă. \n\n\n\n\n\n\n\n\n\n\n\n\n\n\n\n\n\n\n\n\n\n\n	Hermina Seraphim\n\nA urmat cursurile Facultății de Matematică la Universitatea București\, însă a ales să se îndrepte ulterior către cariera de reporter și realizator de emisiuni de televiziune\, începându-și activitatea la Antena 1 și ProTV. În același timp a descoperit practica Yoga pe care a continuat să o integreze în viața ei pentru mai mult de douăzeci de ani. \nÎn ultimii paisprezece ani și-a dus practica Yoga mai departe\, devenind instructor și predând Yoga în mai multe orașe din România.\nÎn cadrul activității sale de regizor\, Hermina Seraphim a pus în scenă spectacolele de artă inițiatică „Chemarea paradisului”\, „Darul Arhanghelilor”\, „Darul inimii”\, „Şcoala iubirii” și „Jocul Regăsirii”. \n\n\n\n\n\n\n\n\n\n\n\n\n\n\nEste autoarea filmelor documentare de lung metraj „Tantra ABC – Străvechiul secret suprem al unei adevărate revoluții erotică care oferă cuplurilor fericirea nesfârşită – Continenţa amoroasă” şi „Tehnici suplimentare pentru practicarea cu succes a continenței amoroase”\, precum și „Legea rezonanței oculte”. \nHermina Seraphim este autoarea a peste 120 de documentare ce tratează subiecte din cele mai diverse domenii\, precum: tradiții spirituale\, psihologia personală și transpersonală\, parapsihologie\, fenomene paranormale\, locuri miraculoase de pe planetă sau despre mari înțelepți\, geniali oameni de știință și ființe excepționale care au trăit pe această planetă.\nA prezentat workshop-uri despre „Trezirea creativității geniale prin dinamizarea aspectelor arhetipale ale ființei” în Germania\, Finlanda\, Rusia și Portugalia. \nEste autoarea a două cărți: „Arta secretă a Orgasmului euforic multiplu – un ghid super savuros și incitant pentru a înțelege si a aprofunda Erosul Tantric Sublim” și „Cum să devii și să rămâi un iubit perfect”\, editura Venusiana\, în care oferă informații clare și ușor de aplicat\, bazate pe un riguros studiu ezoteric\, dar și pe o îndelungată și consecventă practică spirituală.
URL:https://ananda-yoga.ro/evenimente/la-vie-en-rose-cum-sa-fim-fericiti-accesand-la-vointa-energia-orgasmului/
LOCATION:Online
CATEGORIES:Worksop
END:VEVENT
BEGIN:VEVENT
DTSTART;VALUE=DATE:20170512
DTEND;VALUE=DATE:20170515
DTSTAMP:20260426T014126
CREATED:20170423T175405Z
LAST-MODIFIED:20170511T124309Z
UID:7218-1494547200-1494806399@ananda-yoga.ro
SUMMARY:Yoga Retreat - Fericirea din interior
DESCRIPTION:De multe ori cautăm fericirea în afara noastră\, în confortul material sau în iubirea și atenția celui/ celei dragi. De fapt fericirea adevarată e în noi înșine.\nVeniți să explorăm împreună drumul către fericirea interioară prin yoga și meditație\, în mijlocul naturii\, aproape de București.\nPentru înscrieri sau informații suplimentare vă rog trimiteți un email la dana.frantzi@yahoo.com sau luciana_nicoara@yahoo.com
URL:https://ananda-yoga.ro/evenimente/yoga-retreat-fericirea-din-interior/
LOCATION:Snagov\, Snagov\, Ilfov\, România
CATEGORIES:Retreats
ATTACH;FMTTYPE=image/jpeg:https://ananda-yoga.ro/wp-content/uploads/2015/07/rtreats-1.jpg
ORGANIZER;CN="Centrul%20Ananda":MAILTO:dana.frantzi@yahoo.com
END:VEVENT
END:VCALENDAR